BEGIN:VCALENDAR
VERSION:2.0
PRODID:-// - ECPv6.15.20//NONSGML v1.0//EN
CALSCALE:GREGORIAN
METHOD:PUBLISH
X-ORIGINAL-URL:https://stpatricklarochelle.org
X-WR-CALDESC:Events for 
REFRESH-INTERVAL;VALUE=DURATION:PT1H
X-Robots-Tag:noindex
X-PUBLISHED-TTL:PT1H
BEGIN:VTIMEZONE
TZID:Africa/Johannesburg
BEGIN:STANDARD
TZOFFSETFROM:+0200
TZOFFSETTO:+0200
TZNAME:SAST
DTSTART:20250101T000000
END:STANDARD
END:VTIMEZONE
BEGIN:VEVENT
DTSTART;VALUE=DATE:20260218
DTEND;VALUE=DATE:20260219
DTSTAMP:20260422T100205
CREATED:20260109T101001Z
LAST-MODIFIED:20260109T101029Z
UID:847-1771372800-1771459199@stpatricklarochelle.org
SUMMARY:Ash Wednesday
DESCRIPTION:06h00 to 07h50 – Ash distribution for workers\n08h00 – English Mass with Ashes\n10h00 – Portuguese Mass with Ashes\n12h00 – Celebration of the Word with Ashes\n15h00 – Divine Mercy with Ashes\n16h30 – English Mass with Ashes\n18h00 – Portugues Mass with Ashes\n19h15 – English Mass with Ashes
URL:https://stpatricklarochelle.org/event/ash-wednesday/
LOCATION:St Patrick’s Catholic Church La Rochelle\, 9 5th Street\, Johannesburg\, Gauteng\, 2197\, South Africa
CATEGORIES:Celebration
END:VEVENT
END:VCALENDAR