BEGIN:VCALENDAR
VERSION:2.0
PRODID:-// - ECPv6.15.20//NONSGML v1.0//EN
CALSCALE:GREGORIAN
METHOD:PUBLISH
X-ORIGINAL-URL:https://stpatricklarochelle.org
X-WR-CALDESC:Events for 
REFRESH-INTERVAL;VALUE=DURATION:PT1H
X-Robots-Tag:noindex
X-PUBLISHED-TTL:PT1H
BEGIN:VTIMEZONE
TZID:Africa/Johannesburg
BEGIN:STANDARD
TZOFFSETFROM:+0200
TZOFFSETTO:+0200
TZNAME:SAST
DTSTART:20250101T000000
END:STANDARD
END:VTIMEZONE
BEGIN:VEVENT
DTSTART;TZID=Africa/Johannesburg:20260314T090000
DTEND;TZID=Africa/Johannesburg:20260314T140000
DTSTAMP:20260422T113553
CREATED:20260130T121052Z
LAST-MODIFIED:20260130T121202Z
UID:865-1773478800-1773496800@stpatricklarochelle.org
SUMMARY:St. Patrick’s Day Children’s Celebration form
DESCRIPTION:
URL:https://stpatricklarochelle.org/event/st-patricks-day-childrens-celebration-form/
LOCATION:St Patrick’s Catholic Church La Rochelle\, 9 5th Street\, Johannesburg\, Gauteng\, 2197\, South Africa
CATEGORIES:Celebration
END:VEVENT
BEGIN:VEVENT
DTSTART;TZID=Africa/Johannesburg:20260314T110000
DTEND;TZID=Africa/Johannesburg:20260314T150000
DTSTAMP:20260422T113553
CREATED:20260311T194959Z
LAST-MODIFIED:20260311T194959Z
UID:921-1773486000-1773500400@stpatricklarochelle.org
SUMMARY:St. Patrick's Got Talent - Auditions
DESCRIPTION:
URL:https://stpatricklarochelle.org/event/st-patricks-got-talent-auditions/
LOCATION:St Patrick’s Catholic Church La Rochelle\, 9 5th Street\, Johannesburg\, Gauteng\, 2197\, South Africa
END:VEVENT
END:VCALENDAR