BEGIN:VCALENDAR
VERSION:2.0
PRODID:-// - ECPv6.15.20//NONSGML v1.0//EN
CALSCALE:GREGORIAN
METHOD:PUBLISH
X-ORIGINAL-URL:https://stpatricklarochelle.org
X-WR-CALDESC:Events for 
REFRESH-INTERVAL;VALUE=DURATION:PT1H
X-Robots-Tag:noindex
X-PUBLISHED-TTL:PT1H
BEGIN:VTIMEZONE
TZID:Africa/Johannesburg
BEGIN:STANDARD
TZOFFSETFROM:+0200
TZOFFSETTO:+0200
TZNAME:SAST
DTSTART:20250101T000000
END:STANDARD
END:VTIMEZONE
BEGIN:VEVENT
DTSTART;TZID=Africa/Johannesburg:20260321T090000
DTEND;TZID=Africa/Johannesburg:20260321T160000
DTSTAMP:20260422T075210
CREATED:20260224T185820Z
LAST-MODIFIED:20260224T185820Z
UID:891-1774083600-1774108800@stpatricklarochelle.org
SUMMARY:Parish Retreat
DESCRIPTION:
URL:https://stpatricklarochelle.org/event/parish-retreat/
LOCATION:St Patrick’s Catholic Church La Rochelle\, 9 5th Street\, Johannesburg\, Gauteng\, 2197\, South Africa
END:VEVENT
END:VCALENDAR