BEGIN:VCALENDAR
VERSION:2.0
PRODID:-// - ECPv6.15.20//NONSGML v1.0//EN
CALSCALE:GREGORIAN
METHOD:PUBLISH
X-ORIGINAL-URL:https://stpatricklarochelle.org
X-WR-CALDESC:Events for 
REFRESH-INTERVAL;VALUE=DURATION:PT1H
X-Robots-Tag:noindex
X-PUBLISHED-TTL:PT1H
BEGIN:VTIMEZONE
TZID:Africa/Johannesburg
BEGIN:STANDARD
TZOFFSETFROM:+0200
TZOFFSETTO:+0200
TZNAME:SAST
DTSTART:20250101T000000
END:STANDARD
END:VTIMEZONE
BEGIN:VEVENT
DTSTART;TZID=Africa/Johannesburg:20260327T180000
DTEND;TZID=Africa/Johannesburg:20260327T220000
DTSTAMP:20260422T112326
CREATED:20260311T195412Z
LAST-MODIFIED:20260311T195412Z
UID:925-1774634400-1774648800@stpatricklarochelle.org
SUMMARY:St Patrick's Got Talent
DESCRIPTION:
URL:https://stpatricklarochelle.org/event/st-patricks-got-talent/
CATEGORIES:Celebration,Fundraising
END:VEVENT
END:VCALENDAR