BEGIN:VCALENDAR
VERSION:2.0
PRODID:-// - ECPv6.15.20//NONSGML v1.0//EN
CALSCALE:GREGORIAN
METHOD:PUBLISH
X-ORIGINAL-URL:https://stpatricklarochelle.org
X-WR-CALDESC:Events for 
REFRESH-INTERVAL;VALUE=DURATION:PT1H
X-Robots-Tag:noindex
X-PUBLISHED-TTL:PT1H
BEGIN:VTIMEZONE
TZID:Africa/Johannesburg
BEGIN:STANDARD
TZOFFSETFROM:+0200
TZOFFSETTO:+0200
TZNAME:SAST
DTSTART:20250101T000000
END:STANDARD
END:VTIMEZONE
BEGIN:VEVENT
DTSTART;TZID=Africa/Johannesburg:20260401T190000
DTEND;TZID=Africa/Johannesburg:20260401T210000
DTSTAMP:20260422T101403
CREATED:20260130T124610Z
LAST-MODIFIED:20260130T124610Z
UID:880-1775070000-1775077200@stpatricklarochelle.org
SUMMARY:Lenten Talks
DESCRIPTION:
URL:https://stpatricklarochelle.org/event/lenten-talks-3/
LOCATION:St Patrick’s Catholic Church La Rochelle\, 9 5th Street\, Johannesburg\, Gauteng\, 2197\, South Africa
END:VEVENT
END:VCALENDAR