BEGIN:VCALENDAR
VERSION:2.0
PRODID:-// - ECPv6.15.20//NONSGML v1.0//EN
CALSCALE:GREGORIAN
METHOD:PUBLISH
X-ORIGINAL-URL:https://stpatricklarochelle.org
X-WR-CALDESC:Events for 
REFRESH-INTERVAL;VALUE=DURATION:PT1H
X-Robots-Tag:noindex
X-PUBLISHED-TTL:PT1H
BEGIN:VTIMEZONE
TZID:Africa/Johannesburg
BEGIN:STANDARD
TZOFFSETFROM:+0200
TZOFFSETTO:+0200
TZNAME:SAST
DTSTART:20250101T000000
END:STANDARD
END:VTIMEZONE
BEGIN:VEVENT
DTSTART;TZID=Africa/Johannesburg:20260405T100000
DTEND;TZID=Africa/Johannesburg:20260405T120000
DTSTAMP:20260422T111736
CREATED:20260224T190457Z
LAST-MODIFIED:20260224T190513Z
UID:895-1775383200-1775390400@stpatricklarochelle.org
SUMMARY:Easter Sunday of the resurrection of the Lord
DESCRIPTION:
URL:https://stpatricklarochelle.org/event/easter-sunday-of-the-resurrection-of-the-lord/
LOCATION:St Patrick’s Catholic Church La Rochelle\, 9 5th Street\, Johannesburg\, Gauteng\, 2197\, South Africa
CATEGORIES:Celebration
END:VEVENT
END:VCALENDAR