BEGIN:VCALENDAR
VERSION:2.0
PRODID:-// - ECPv6.15.20//NONSGML v1.0//EN
CALSCALE:GREGORIAN
METHOD:PUBLISH
X-ORIGINAL-URL:https://stpatricklarochelle.org
X-WR-CALDESC:Events for 
REFRESH-INTERVAL;VALUE=DURATION:PT1H
X-Robots-Tag:noindex
X-PUBLISHED-TTL:PT1H
BEGIN:VTIMEZONE
TZID:Africa/Johannesburg
BEGIN:STANDARD
TZOFFSETFROM:+0200
TZOFFSETTO:+0200
TZNAME:SAST
DTSTART:20250101T000000
END:STANDARD
END:VTIMEZONE
BEGIN:VEVENT
DTSTART;VALUE=DATE:20260501
DTEND;VALUE=DATE:20260502
DTSTAMP:20260422T093123
CREATED:20260416T160942Z
LAST-MODIFIED:20260421T111526Z
UID:942-1777593600-1777679999@stpatricklarochelle.org
SUMMARY:55th Anniversary of the Blessing of the Church Building
DESCRIPTION:
URL:https://stpatricklarochelle.org/event/55th-anniversary-of-the-blessing-of-the-church-building/
LOCATION:St Patrick’s Catholic Church La Rochelle\, 9 5th Street\, Johannesburg\, Gauteng\, 2197\, South Africa
CATEGORIES:Celebration
END:VEVENT
BEGIN:VEVENT
DTSTART;TZID=Africa/Johannesburg:20260501T080000
DTEND;TZID=Africa/Johannesburg:20260501T170000
DTSTAMP:20260422T093123
CREATED:20260416T161350Z
LAST-MODIFIED:20260421T111552Z
UID:944-1777622400-1777654800@stpatricklarochelle.org
SUMMARY:Adoration First Friday
DESCRIPTION:
URL:https://stpatricklarochelle.org/event/adoration-first-friday-4/
CATEGORIES:Adoration
END:VEVENT
END:VCALENDAR