BEGIN:VCALENDAR
VERSION:2.0
PRODID:-// - ECPv6.15.20//NONSGML v1.0//EN
CALSCALE:GREGORIAN
METHOD:PUBLISH
X-ORIGINAL-URL:https://stpatricklarochelle.org
X-WR-CALDESC:Events for 
REFRESH-INTERVAL;VALUE=DURATION:PT1H
X-Robots-Tag:noindex
X-PUBLISHED-TTL:PT1H
BEGIN:VTIMEZONE
TZID:Africa/Johannesburg
BEGIN:STANDARD
TZOFFSETFROM:+0200
TZOFFSETTO:+0200
TZNAME:SAST
DTSTART:20250101T000000
END:STANDARD
END:VTIMEZONE
BEGIN:VEVENT
DTSTART;TZID=Africa/Johannesburg:20260524T100000
DTEND;TZID=Africa/Johannesburg:20260524T170000
DTSTAMP:20260422T093126
CREATED:20260416T163440Z
LAST-MODIFIED:20260421T111343Z
UID:950-1779616800-1779642000@stpatricklarochelle.org
SUMMARY:Pentecost - Festival of Choirs
DESCRIPTION:
URL:https://stpatricklarochelle.org/event/pentecost-festival-of-choirs/
LOCATION:St Patrick’s Catholic Church La Rochelle\, 9 5th Street\, Johannesburg\, Gauteng\, 2197\, South Africa
CATEGORIES:Celebration
END:VEVENT
END:VCALENDAR